BEGIN:VCALENDAR
VERSION:2.0
PRODID:icalendar-ruby
CALSCALE:GREGORIAN
METHOD:PUBLISH
BEGIN:VEVENT
DTSTAMP:20260424T140349Z
UID:35-1197745@stephenscityumc.org
DTSTART;VALUE=DATE:20260712
DTEND;VALUE=DATE:20260716
CLASS:PUBLIC
CREATED:20260418T170706
DESCRIPTION:Join Ollie the Arctic Seal at\nSnowball Mountain Challenge!
LAST-MODIFIED:20260418T170706
LOCATION:Downstairs at SCUMC
SUMMARY:Vacation Bible School - Children Ages 4-11
URL;VALUE=URI:https://www.stephenscityumc.org/events/vacation-bible-school-
 children-ages-4-11/2026-07-12
ATTACH;FILENAME=_Logo-Primary.png;FMTTYPE=image/png:https://dq5pwpg1q8ru0.c
 loudfront.net/2026/04/18/21/07/06/166531b6-dd02-40f0-bd89-7f8db4d4bc13/_Lo
 go-Primary.png
END:VEVENT
END:VCALENDAR
